BEGIN:VCALENDAR
VERSION:2.0
PRODID:spatie/icalendar-generator
BEGIN:VEVENT
UID:ed55c1d3bd144ebb1ffa05427097a5f6-event-revolutionise.com.au
DTSTAMP:20240316T200401Z
SUMMARY:Kamini OC6 workshop - Level B
DESCRIPTION:See https://www.clubsake.com/events/215919 for more.
LOCATION:Lakewood Marina - 4500 Lake Washington Blvd S\, Seattle WA
URL:https://www.clubsake.com/events/215919
DTSTART;TZID=America/Los_Angeles:20240427T090000
DTEND;TZID=America/Los_Angeles:20240427T130000
END:VEVENT
END:VCALENDAR