BEGIN:VCALENDAR
VERSION:2.0
PRODID:spatie/icalendar-generator
BEGIN:VEVENT
UID:93b8380c8667b4b6affcf9017866034a-event-revolutionise.com.au
DTSTAMP:20240316T195944Z
SUMMARY:Dragon Boat Training
DESCRIPTION:See https://www.clubsake.com/events/219861 for more.
LOCATION:Leschi South Sailboat Moorage
URL:https://www.clubsake.com/events/219861
DTSTART;TZID=America/Los_Angeles:20240323T090000
DTEND;TZID=America/Los_Angeles:20240323T110000
END:VEVENT
END:VCALENDAR