BEGIN:VCALENDAR
VERSION:2.0
PRODID:spatie/icalendar-generator
BEGIN:VEVENT
UID:3b672d43a26f6b749e1a5e96cbfdd356-event-revolutionise.com.au
DTSTAMP:20240316T195909Z
SUMMARY:Dragon Boat Training
DESCRIPTION:See https://www.clubsake.com/events/219862 for more.
LOCATION:Leschi South Sailboat Moorage
URL:https://www.clubsake.com/events/219862
DTSTART;TZID=America/Los_Angeles:20240330T090000
DTEND;TZID=America/Los_Angeles:20240330T110000
END:VEVENT
END:VCALENDAR