BEGIN:VCALENDAR
VERSION:2.0
PRODID:spatie/icalendar-generator
BEGIN:VEVENT
UID:0d9b0263a588efe8174fa66682f1d701-event-revolutionise.com.au
DTSTAMP:20240316T195627Z
SUMMARY:Dragon Boat Training
DESCRIPTION:See https://www.clubsake.com/events/219872 for more.
LOCATION:Leschi South Sailboat Moorage
URL:https://www.clubsake.com/events/219872
DTSTART;TZID=America/Los_Angeles:20240319T183000
DTEND;TZID=America/Los_Angeles:20240319T200000
END:VEVENT
END:VCALENDAR