BEGIN:VCALENDAR
VERSION:2.0
PRODID:spatie/icalendar-generator
BEGIN:VEVENT
UID:43a68cf7fc9071d8a57a4120388e65e8-event-revolutionise.com.au
DTSTAMP:20240316T195845Z
SUMMARY:Dragon Boat Training
DESCRIPTION:See https://www.clubsake.com/events/219873 for more.
LOCATION:Leschi South Sailboat Moorage
URL:https://www.clubsake.com/events/219873
DTSTART;TZID=America/Los_Angeles:20240326T183000
DTEND;TZID=America/Los_Angeles:20240326T200000
END:VEVENT
END:VCALENDAR