BEGIN:VCALENDAR
VERSION:2.0
PRODID:spatie/icalendar-generator
BEGIN:VEVENT
UID:66d44c9852d41ca778b9b830fe2fb6a8-event-revolutionise.com.au
DTSTAMP:20240316T200335Z
SUMMARY:Dragon boat cleaning
DESCRIPTION:See https://www.clubsake.com/events/220254 for more.
LOCATION:Leschi South Sailboat Moorage
URL:https://www.clubsake.com/events/220254
DTSTART;TZID=America/Los_Angeles:20240511T080000
DTEND;TZID=America/Los_Angeles:20240511T113000
END:VEVENT
END:VCALENDAR