BEGIN:VCALENDAR
VERSION:2.0
PRODID:spatie/icalendar-generator
BEGIN:VEVENT
UID:e14ae908aa45dc64a31a5823c49483bf-event-revolutionise.com.au
DTSTAMP:20240316T200455Z
SUMMARY:Dragon boat cleaning
DESCRIPTION:See https://www.clubsake.com/events/220258 for more.
LOCATION:Leschi South Sailboat Moorage
URL:https://www.clubsake.com/events/220258
DTSTART;TZID=America/Los_Angeles:20240914T080000
DTEND;TZID=America/Los_Angeles:20240914T113000
END:VEVENT
END:VCALENDAR