BEGIN:VCALENDAR
VERSION:2.0
PRODID:spatie/icalendar-generator
BEGIN:VEVENT
UID:7760d8740d60ee4fbb3a0bb5a6a1a837-event-revolutionise.com.au
DTSTAMP:20240316T200457Z
SUMMARY:Dragon boat cleaning
DESCRIPTION:See https://www.clubsake.com/events/220259 for more.
LOCATION:Leschi South Sailboat Moorage
URL:https://www.clubsake.com/events/220259
DTSTART;TZID=America/Los_Angeles:20241012T080000
DTEND;TZID=America/Los_Angeles:20241012T113000
END:VEVENT
END:VCALENDAR