BEGIN:VCALENDAR
VERSION:2.0
PRODID:spatie/icalendar-generator
BEGIN:VEVENT
UID:aa7be2e698c11fdd93be01980093a3a8-event-revolutionise.com.au
DTSTAMP:20240316T200500Z
SUMMARY:Dragon boat cleaning
DESCRIPTION:See https://www.clubsake.com/events/220261 for more.
LOCATION:Leschi South Sailboat Moorage
URL:https://www.clubsake.com/events/220261
DTSTART;TZID=America/Los_Angeles:20241214T080000
DTEND;TZID=America/Los_Angeles:20241214T113000
END:VEVENT
END:VCALENDAR