BEGIN:VCALENDAR
VERSION:2.0
PRODID:spatie/icalendar-generator
BEGIN:VEVENT
UID:dfff8418d656e5983a6a25252ce9e10a-event-revolutionise.com.au
DTSTAMP:20240316T200359Z
SUMMARY:Dragon Boat 101
DESCRIPTION:See https://www.clubsake.com/events/220383 for more.
LOCATION:Leschi South Sailboat Moorage
URL:https://www.clubsake.com/events/220383
DTSTART;TZID=America/Los_Angeles:20240504T113000
DTEND;TZID=America/Los_Angeles:20240504T130000
END:VEVENT
END:VCALENDAR