BEGIN:VCALENDAR
VERSION:2.0
PRODID:spatie/icalendar-generator
BEGIN:VEVENT
UID:171a8c41e95bf0de4d939fb836886995-event-revolutionise.com.au
DTSTAMP:20240316T200314Z
SUMMARY:Dragon Boat 101
DESCRIPTION:See https://www.clubsake.com/events/220386 for more.
LOCATION:Leschi South Sailboat Moorage
URL:https://www.clubsake.com/events/220386
DTSTART;TZID=America/Los_Angeles:20240824T113000
DTEND;TZID=America/Los_Angeles:20240824T130000
END:VEVENT
END:VCALENDAR