BEGIN:VCALENDAR
VERSION:2.0
PRODID:spatie/icalendar-generator
BEGIN:VEVENT
UID:bb38af7fc40c1c3cd7c3ea1ef9b50ee1-event-revolutionise.com.au
DTSTAMP:20240316T200459Z
SUMMARY:Dragon Boat 101
DESCRIPTION:See https://www.clubsake.com/events/220387 for more.
LOCATION:Leschi South Sailboat Moorage
URL:https://www.clubsake.com/events/220387
DTSTART;TZID=America/Los_Angeles:20240921T113000
DTEND;TZID=America/Los_Angeles:20240921T130000
END:VEVENT
END:VCALENDAR