BEGIN:VCALENDAR
VERSION:2.0
PRODID:spatie/icalendar-generator
BEGIN:VEVENT
UID:2622115399b7d2eeac4e948a7e2405d2-event-revolutionise.com.au
DTSTAMP:20240316T200453Z
SUMMARY:TENTATIVE: Christmas Ships Paddle
DESCRIPTION:See https://www.clubsake.com/events/220390 for more.
LOCATION:Leschi South Sailboat Moorage
URL:https://www.clubsake.com/events/220390
DTSTART;TZID=America/Los_Angeles:20241207T160000
DTEND;TZID=America/Los_Angeles:20241207T210000
END:VEVENT
END:VCALENDAR