BEGIN:VCALENDAR
VERSION:2.0
PRODID:spatie/icalendar-generator
BEGIN:VEVENT
UID:1dd795599bd3059232f9cc9deb4ef518-event-revolutionise.com.au
DTSTAMP:20240316T195630Z
SUMMARY:Recreational Crew Dragon Boat
DESCRIPTION:See https://www.clubsake.com/events/225951 for more.
LOCATION:Leschi South Sailboat Moorage
URL:https://www.clubsake.com/events/225951
DTSTART;TZID=America/Los_Angeles:20240321T110000
DTEND;TZID=America/Los_Angeles:20240321T120000
END:VEVENT
END:VCALENDAR