BEGIN:VCALENDAR
VERSION:2.0
PRODID:spatie/icalendar-generator
BEGIN:VEVENT
UID:41908a8acf4aab80a29a40b41912cc0a-event-revolutionise.com.au
DTSTAMP:20240316T200417Z
SUMMARY:Recreational Crew Dragon Boat
DESCRIPTION:See https://www.clubsake.com/events/225953 for more.
LOCATION:Leschi South Sailboat Moorage
URL:https://www.clubsake.com/events/225953
DTSTART;TZID=America/Los_Angeles:20240404T110000
DTEND;TZID=America/Los_Angeles:20240404T120000
END:VEVENT
END:VCALENDAR