BEGIN:VCALENDAR
VERSION:2.0
PRODID:spatie/icalendar-generator
BEGIN:VEVENT
UID:db65c6e066475470e6ed2c77c5da7461-event-revolutionise.com.au
DTSTAMP:20240316T195927Z
SUMMARY:Survivor SAKE Practice
DESCRIPTION:See https://www.clubsake.com/events/227444 for more.
LOCATION:Leschi South Sailboat Moorage
URL:https://www.clubsake.com/events/227444
DTSTART;TZID=America/Los_Angeles:20240323T083000
DTEND;TZID=America/Los_Angeles:20240323T110000
END:VEVENT
END:VCALENDAR