BEGIN:VCALENDAR
VERSION:2.0
PRODID:spatie/icalendar-generator
BEGIN:VEVENT
UID:eff75123f3880c53247dddb5177793b1-event-revolutionise.com.au
DTSTAMP:20240316T200415Z
SUMMARY:Survivor SAKE Practice
DESCRIPTION:See https://www.clubsake.com/events/227447 for more.
LOCATION:Leschi South Sailboat Moorage
URL:https://www.clubsake.com/events/227447
DTSTART;TZID=America/Los_Angeles:20240413T083000
DTEND;TZID=America/Los_Angeles:20240413T110000
END:VEVENT
END:VCALENDAR