BEGIN:VCALENDAR
VERSION:2.0
PRODID:spatie/icalendar-generator
BEGIN:VEVENT
UID:614afb28a3c9a19b6ec064cb0669e9aa-event-revolutionise.com.au
DTSTAMP:20240316T200441Z
SUMMARY:Survivor SAKE Practice
DESCRIPTION:See https://www.clubsake.com/events/227448 for more.
LOCATION:Leschi South Sailboat Moorage
URL:https://www.clubsake.com/events/227448
DTSTART;TZID=America/Los_Angeles:20240420T083000
DTEND;TZID=America/Los_Angeles:20240420T110000
END:VEVENT
END:VCALENDAR