BEGIN:VCALENDAR
VERSION:2.0
PRODID:spatie/icalendar-generator
BEGIN:VEVENT
UID:a074b1e80638715f6ae88d52e3e96ec2-event-revolutionise.com.au
DTSTAMP:20240316T195514Z
SUMMARY:Survivor SAKE Practice
DESCRIPTION:See https://www.clubsake.com/events/227859 for more.
LOCATION:Leschi South Sailboat Moorage
URL:https://www.clubsake.com/events/227859
DTSTART;TZID=America/Los_Angeles:20240319T174500
DTEND;TZID=America/Los_Angeles:20240319T194500
END:VEVENT
END:VCALENDAR