BEGIN:VCALENDAR
VERSION:2.0
PRODID:spatie/icalendar-generator
BEGIN:VEVENT
UID:caa6259fd5fdc705a88989b0c88f43a7-event-revolutionise.com.au
DTSTAMP:20240316T195842Z
SUMMARY:Survivor SAKE Practice
DESCRIPTION:See https://www.clubsake.com/events/227864 for more.
LOCATION:Leschi South Sailboat Moorage
URL:https://www.clubsake.com/events/227864
DTSTART;TZID=America/Los_Angeles:20240402T174500
DTEND;TZID=America/Los_Angeles:20240402T194500
END:VEVENT
END:VCALENDAR