BEGIN:VCALENDAR
VERSION:2.0
PRODID:spatie/icalendar-generator
BEGIN:VEVENT
UID:1f7404000e913d1ff588304851c01a60-event-revolutionise.com.au
DTSTAMP:20240316T200439Z
SUMMARY:Dragon Boat Training
DESCRIPTION:See https://www.clubsake.com/events/230995 for more.
LOCATION:Leschi South Sailboat Moorage
URL:https://www.clubsake.com/events/230995
DTSTART;TZID=America/Los_Angeles:20240423T183000
DTEND;TZID=America/Los_Angeles:20240423T200000
END:VEVENT
END:VCALENDAR