BEGIN:VCALENDAR
VERSION:2.0
PRODID:spatie/icalendar-generator
BEGIN:VEVENT
UID:f59261960d3bb9ed4bc8d560fc3c5754-event-revolutionise.com.au
DTSTAMP:20240316T200312Z
SUMMARY:Dragon Boat Training
DESCRIPTION:See https://www.clubsake.com/events/231013 for more.
LOCATION:Leschi South Sailboat Moorage
URL:https://www.clubsake.com/events/231013
DTSTART;TZID=America/Los_Angeles:20240806T183000
DTEND;TZID=America/Los_Angeles:20240806T200000
END:VEVENT
END:VCALENDAR