BEGIN:VCALENDAR
VERSION:2.0
PRODID:spatie/icalendar-generator
BEGIN:VEVENT
UID:a0d6c63878619d4344f420392422eb09-event-revolutionise.com.au
DTSTAMP:20240316T200228Z
SUMMARY:Dragon Boat Training
DESCRIPTION:See https://www.clubsake.com/events/231016 for more.
LOCATION:Leschi South Sailboat Moorage
URL:https://www.clubsake.com/events/231016
DTSTART;TZID=America/Los_Angeles:20240820T183000
DTEND;TZID=America/Los_Angeles:20240820T200000
END:VEVENT
END:VCALENDAR