BEGIN:VCALENDAR
VERSION:2.0
PRODID:spatie/icalendar-generator
BEGIN:VEVENT
UID:277c9d8d1f2420f476a9e82784a1d95c-event-revolutionise.com.au
DTSTAMP:20240316T200316Z
SUMMARY:Dragon Boat Training
DESCRIPTION:See https://www.clubsake.com/events/231017 for more.
LOCATION:Leschi South Sailboat Moorage
URL:https://www.clubsake.com/events/231017
DTSTART;TZID=America/Los_Angeles:20240827T183000
DTEND;TZID=America/Los_Angeles:20240827T200000
END:VEVENT
END:VCALENDAR