BEGIN:VCALENDAR
VERSION:2.0
PRODID:spatie/icalendar-generator
BEGIN:VEVENT
UID:124d60875a4efd9f217739e8bc277523-event-revolutionise.com.au
DTSTAMP:20240316T200254Z
SUMMARY:Dragon Boat Training
DESCRIPTION:See https://www.clubsake.com/events/231018 for more.
LOCATION:Leschi South Sailboat Moorage
URL:https://www.clubsake.com/events/231018
DTSTART;TZID=America/Los_Angeles:20240903T183000
DTEND;TZID=America/Los_Angeles:20240903T200000
END:VEVENT
END:VCALENDAR