BEGIN:VCALENDAR
VERSION:2.0
PRODID:spatie/icalendar-generator
BEGIN:VEVENT
UID:9319e98a12427ea7ad8dfade3dfb72be-event-revolutionise.com.au
DTSTAMP:20240316T200458Z
SUMMARY:Dragon Boat Training
DESCRIPTION:See https://www.clubsake.com/events/231019 for more.
LOCATION:Leschi South Sailboat Moorage
URL:https://www.clubsake.com/events/231019
DTSTART;TZID=America/Los_Angeles:20240910T183000
DTEND;TZID=America/Los_Angeles:20240910T200000
END:VEVENT
END:VCALENDAR