BEGIN:VCALENDAR
VERSION:2.0
PRODID:spatie/icalendar-generator
BEGIN:VEVENT
UID:babb0bd66f512ea5c1e8d0323e990c13-event-revolutionise.com.au
DTSTAMP:20240316T200446Z
SUMMARY:Dragon Boat Training
DESCRIPTION:See https://www.clubsake.com/events/231023 for more.
LOCATION:Leschi South Sailboat Moorage
URL:https://www.clubsake.com/events/231023
DTSTART;TZID=America/Los_Angeles:20240420T090000
DTEND;TZID=America/Los_Angeles:20240420T110000
END:VEVENT
END:VCALENDAR