BEGIN:VCALENDAR
VERSION:2.0
PRODID:spatie/icalendar-generator
BEGIN:VEVENT
UID:2ad30886e64c71df2c263922890ab05c-event-revolutionise.com.au
DTSTAMP:20240316T200234Z
SUMMARY:Dragon Boat Training
DESCRIPTION:See https://www.clubsake.com/events/231043 for more.
LOCATION:Leschi South Sailboat Moorage
URL:https://www.clubsake.com/events/231043
DTSTART;TZID=America/Los_Angeles:20240727T090000
DTEND;TZID=America/Los_Angeles:20240727T110000
END:VEVENT
END:VCALENDAR