BEGIN:VCALENDAR
VERSION:2.0
PRODID:spatie/icalendar-generator
BEGIN:VEVENT
UID:81126014e2d1cec348b14ee2805e6a12-event-revolutionise.com.au
DTSTAMP:20240316T200232Z
SUMMARY:No Practice - Seafair weekend
DESCRIPTION:See https://www.clubsake.com/events/231045 for more.
LOCATION:Al Hawr Portland
URL:https://www.clubsake.com/events/231045
DTSTART;TZID=America/Los_Angeles:20240803T090000
DTEND;TZID=America/Los_Angeles:20240803T110000
END:VEVENT
END:VCALENDAR