BEGIN:VCALENDAR
VERSION:2.0
PRODID:spatie/icalendar-generator
BEGIN:VEVENT
UID:4a0f24763a0350e00ff7894532779667-event-revolutionise.com.au
DTSTAMP:20240316T200317Z
SUMMARY:Dragon Boat Training
DESCRIPTION:See https://www.clubsake.com/events/231048 for more.
LOCATION:Leschi South Sailboat Moorage
URL:https://www.clubsake.com/events/231048
DTSTART;TZID=America/Los_Angeles:20240824T090000
DTEND;TZID=America/Los_Angeles:20240824T110000
END:VEVENT
END:VCALENDAR