BEGIN:VCALENDAR
VERSION:2.0
PRODID:spatie/icalendar-generator
BEGIN:VEVENT
UID:9e0fd14591040caf60387249469431c3-event-revolutionise.com.au
DTSTAMP:20240316T200320Z
SUMMARY:Dragon Boat Training
DESCRIPTION:See https://www.clubsake.com/events/231049 for more.
LOCATION:Leschi South Sailboat Moorage
URL:https://www.clubsake.com/events/231049
DTSTART;TZID=America/Los_Angeles:20240831T090000
DTEND;TZID=America/Los_Angeles:20240831T110000
END:VEVENT
END:VCALENDAR