BEGIN:VCALENDAR
VERSION:2.0
PRODID:spatie/icalendar-generator
BEGIN:VEVENT
UID:81ea08244b1a8127e8a22eb292d56d48-event-revolutionise.com.au
DTSTAMP:20240316T195932Z
SUMMARY:Barcelona Crew Training
DESCRIPTION:See https://www.clubsake.com/events/231142 for more.
LOCATION:Leschi South Sailboat Moorage
URL:https://www.clubsake.com/events/231142
DTSTART;TZID=America/Los_Angeles:20240331T080000
DTEND;TZID=America/Los_Angeles:20240331T110000
END:VEVENT
END:VCALENDAR