BEGIN:VCALENDAR
VERSION:2.0
PRODID:spatie/icalendar-generator
BEGIN:VEVENT
UID:0c4e8a2d24901ca5aacb03354bbd6534-event-revolutionise.com.au
DTSTAMP:20240316T200409Z
SUMMARY:Barcelona Crew Training
DESCRIPTION:See https://www.clubsake.com/events/231144 for more.
LOCATION:Leschi South Sailboat Moorage
URL:https://www.clubsake.com/events/231144
DTSTART;TZID=America/Los_Angeles:20240407T080000
DTEND;TZID=America/Los_Angeles:20240407T110000
END:VEVENT
END:VCALENDAR