BEGIN:VCALENDAR
VERSION:2.0
PRODID:spatie/icalendar-generator
BEGIN:VEVENT
UID:cda21516d93f7781240108381f4e7c34-event-revolutionise.com.au
DTSTAMP:20240316T200434Z
SUMMARY:Barcelona Crew Training
DESCRIPTION:See https://www.clubsake.com/events/231145 for more.
LOCATION:Leschi South Sailboat Moorage
URL:https://www.clubsake.com/events/231145
DTSTART;TZID=America/Los_Angeles:20240414T080000
DTEND;TZID=America/Los_Angeles:20240414T110000
END:VEVENT
END:VCALENDAR