BEGIN:VCALENDAR
VERSION:2.0
PRODID:spatie/icalendar-generator
BEGIN:VEVENT
UID:f16887e28b74834cff07bcdc9a64c25c-event-revolutionise.com.au
DTSTAMP:20240316T200442Z
SUMMARY:Barcelona Crew Training
DESCRIPTION:See https://www.clubsake.com/events/231146 for more.
LOCATION:Leschi South Sailboat Moorage
URL:https://www.clubsake.com/events/231146
DTSTART;TZID=America/Los_Angeles:20240421T080000
DTEND;TZID=America/Los_Angeles:20240421T110000
END:VEVENT
END:VCALENDAR