BEGIN:VCALENDAR
VERSION:2.0
PRODID:spatie/icalendar-generator
BEGIN:VEVENT
UID:7739b2a2151f11c486c9362c132f5fb5-event-revolutionise.com.au
DTSTAMP:20240316T195906Z
SUMMARY:OC6 - General Session - re-rig back to OC6
DESCRIPTION:See https://www.clubsake.com/events/231188 for more.
LOCATION:Lakewood Marina - 4500 Lake Washington Blvd S\, Seattle WA
URL:https://www.clubsake.com/events/231188
DTSTART;TZID=America/Los_Angeles:20240324T110000
DTEND;TZID=America/Los_Angeles:20240324T140000
END:VEVENT
END:VCALENDAR