BEGIN:VCALENDAR
VERSION:2.0
PRODID:spatie/icalendar-generator
BEGIN:VEVENT
UID:54b5443eb1397aa233b0759671cefd58-event-revolutionise.com.au
DTSTAMP:20240316T200356Z
SUMMARY:OC6 - General Session
DESCRIPTION:See https://www.clubsake.com/events/231853 for more.
LOCATION:Lakewood Marina - 4500 Lake Washington Blvd S\, Seattle WA
URL:https://www.clubsake.com/events/231853
DTSTART;TZID=America/Los_Angeles:20240502T183000
DTEND;TZID=America/Los_Angeles:20240502T203000
END:VEVENT
END:VCALENDAR