BEGIN:VCALENDAR
VERSION:2.0
PRODID:spatie/icalendar-generator
BEGIN:VEVENT
UID:f5ccc13d18b4e2029d1ff586c656549f-event-revolutionise.com.au
DTSTAMP:20240316T200418Z
SUMMARY:OC6 - General Session
DESCRIPTION:See https://www.clubsake.com/events/231854 for more.
LOCATION:Lakewood Marina - 4500 Lake Washington Blvd S\, Seattle WA
URL:https://www.clubsake.com/events/231854
DTSTART;TZID=America/Los_Angeles:20240402T183000
DTEND;TZID=America/Los_Angeles:20240402T203000
END:VEVENT
END:VCALENDAR