BEGIN:VCALENDAR
VERSION:2.0
PRODID:spatie/icalendar-generator
BEGIN:VEVENT
UID:0d02345f18345af4def31782d9f28022-event-revolutionise.com.au
DTSTAMP:20240316T200419Z
SUMMARY:OC6 - General Session
DESCRIPTION:See https://www.clubsake.com/events/231855 for more.
LOCATION:Lakewood Marina - 4500 Lake Washington Blvd S\, Seattle WA
URL:https://www.clubsake.com/events/231855
DTSTART;TZID=America/Los_Angeles:20240409T183000
DTEND;TZID=America/Los_Angeles:20240409T203000
END:VEVENT
END:VCALENDAR