BEGIN:VCALENDAR
VERSION:2.0
PRODID:spatie/icalendar-generator
BEGIN:VEVENT
UID:7a50990c3cc851525b2c8de216ee429f-event-revolutionise.com.au
DTSTAMP:20240316T200434Z
SUMMARY:OC6 - General Session
DESCRIPTION:See https://www.clubsake.com/events/231857 for more.
LOCATION:Lakewood Marina - 4500 Lake Washington Blvd S\, Seattle WA
URL:https://www.clubsake.com/events/231857
DTSTART;TZID=America/Los_Angeles:20240416T183000
DTEND;TZID=America/Los_Angeles:20240416T203000
END:VEVENT
END:VCALENDAR