BEGIN:VCALENDAR
VERSION:2.0
PRODID:spatie/icalendar-generator
BEGIN:VEVENT
UID:e7a4c5d201884aec91a0a2acca9710a6-event-revolutionise.com.au
DTSTAMP:20240316T200432Z
SUMMARY:OC6 - General Session
DESCRIPTION:See https://www.clubsake.com/events/231858 for more.
LOCATION:Lakewood Marina - 4500 Lake Washington Blvd S\, Seattle WA
URL:https://www.clubsake.com/events/231858
DTSTART;TZID=America/Los_Angeles:20240423T183000
DTEND;TZID=America/Los_Angeles:20240423T203000
END:VEVENT
END:VCALENDAR