BEGIN:VCALENDAR
VERSION:2.0
PRODID:spatie/icalendar-generator
BEGIN:VEVENT
UID:8e89ac9deb08ef651d7ba2666de44492-event-revolutionise.com.au
DTSTAMP:20240316T200337Z
SUMMARY:OC6 - General Session
DESCRIPTION:See https://www.clubsake.com/events/231859 for more.
LOCATION:Lakewood Marina - 4500 Lake Washington Blvd S\, Seattle WA
URL:https://www.clubsake.com/events/231859
DTSTART;TZID=America/Los_Angeles:20240430T183000
DTEND;TZID=America/Los_Angeles:20240430T203000
END:VEVENT
END:VCALENDAR