BEGIN:VCALENDAR
VERSION:2.0
PRODID:spatie/icalendar-generator
BEGIN:VEVENT
UID:3de43aeb7c4acb1d28aa08f060af356e-event-revolutionise.com.au
DTSTAMP:20240316T200443Z
SUMMARY:OC6 - General Session
DESCRIPTION:See https://www.clubsake.com/events/231862 for more.
LOCATION:Lakewood Marina - 4500 Lake Washington Blvd S\, Seattle WA
URL:https://www.clubsake.com/events/231862
DTSTART;TZID=America/Los_Angeles:20240414T120000
DTEND;TZID=America/Los_Angeles:20240414T140000
END:VEVENT
END:VCALENDAR