BEGIN:VCALENDAR
VERSION:2.0
PRODID:spatie/icalendar-generator
BEGIN:VEVENT
UID:307cabfc783757c054d5907d5412c090-event-revolutionise.com.au
DTSTAMP:20240316T200427Z
SUMMARY:OC6 - General Session
DESCRIPTION:See https://www.clubsake.com/events/231865 for more.
LOCATION:Lakewood Marina - 4500 Lake Washington Blvd S\, Seattle WA
URL:https://www.clubsake.com/events/231865
DTSTART;TZID=America/Los_Angeles:20240406T100000
DTEND;TZID=America/Los_Angeles:20240406T120000
END:VEVENT
END:VCALENDAR