BEGIN:VCALENDAR
VERSION:2.0
PRODID:spatie/icalendar-generator
BEGIN:VEVENT
UID:b527e6821fe6af4e66a028cd74b69016-event-revolutionise.com.au
DTSTAMP:20240316T200432Z
SUMMARY:OC6 - General Session
DESCRIPTION:See https://www.clubsake.com/events/231867 for more.
LOCATION:Lakewood Marina - 4500 Lake Washington Blvd S\, Seattle WA
URL:https://www.clubsake.com/events/231867
DTSTART;TZID=America/Los_Angeles:20240420T100000
DTEND;TZID=America/Los_Angeles:20240420T120000
END:VEVENT
END:VCALENDAR