BEGIN:VCALENDAR
VERSION:2.0
PRODID:spatie/icalendar-generator
BEGIN:VEVENT
UID:e12742f17ed2063ea683afebf6a77532-event-revolutionise.com.au
DTSTAMP:20240316T200338Z
SUMMARY:OC6 - General Session
DESCRIPTION:See https://www.clubsake.com/events/231868 for more.
LOCATION:Lakewood Marina - 4500 Lake Washington Blvd S\, Seattle WA
URL:https://www.clubsake.com/events/231868
DTSTART;TZID=America/Los_Angeles:20240427T100000
DTEND;TZID=America/Los_Angeles:20240427T120000
END:VEVENT
END:VCALENDAR