BEGIN:VCALENDAR
VERSION:2.0
PRODID:spatie/icalendar-generator
BEGIN:VEVENT
UID:c536ac48f53b888bb87b2f1936b8a0aa-event-revolutionise.com.au
DTSTAMP:20240316T200423Z
SUMMARY:Recreational Crew Dragon Boat
DESCRIPTION:See https://www.clubsake.com/events/232559 for more.
LOCATION:Leschi South Sailboat Moorage
URL:https://www.clubsake.com/events/232559
DTSTART;TZID=America/Los_Angeles:20240411T110000
DTEND;TZID=America/Los_Angeles:20240411T120000
END:VEVENT
END:VCALENDAR