BEGIN:VCALENDAR
VERSION:2.0
PRODID:spatie/icalendar-generator
BEGIN:VEVENT
UID:1ff44ba14c3fc6fdc1b34a72e271fb27-event-revolutionise.com.au
DTSTAMP:20240316T200448Z
SUMMARY:Recreational Crew Dragon Boat
DESCRIPTION:See https://www.clubsake.com/events/232562 for more.
LOCATION:Leschi South Sailboat Moorage
URL:https://www.clubsake.com/events/232562
DTSTART;TZID=America/Los_Angeles:20240425T110000
DTEND;TZID=America/Los_Angeles:20240425T120000
END:VEVENT
END:VCALENDAR