BEGIN:VCALENDAR
VERSION:2.0
PRODID:spatie/icalendar-generator
BEGIN:VEVENT
UID:875afaef12d7872b644948db1bb3040a-event-revolutionise.com.au
DTSTAMP:20240316T200332Z
SUMMARY:Recreational Crew Dragon Boat
DESCRIPTION:See https://www.clubsake.com/events/232563 for more.
LOCATION:Leschi South Sailboat Moorage
URL:https://www.clubsake.com/events/232563
DTSTART;TZID=America/Los_Angeles:20240502T110000
DTEND;TZID=America/Los_Angeles:20240502T120000
END:VEVENT
END:VCALENDAR