BEGIN:VCALENDAR
VERSION:2.0
PRODID:spatie/icalendar-generator
BEGIN:VEVENT
UID:34d2d2d7f24930d549dfc135f4d86c1e-event-revolutionise.com.au
DTSTAMP:20240316T200448Z
SUMMARY:Recreational Crew Dragon Boat
DESCRIPTION:See https://www.clubsake.com/events/232566 for more.
LOCATION:Leschi South Sailboat Moorage
URL:https://www.clubsake.com/events/232566
DTSTART;TZID=America/Los_Angeles:20240420T080000
DTEND;TZID=America/Los_Angeles:20240420T090000
END:VEVENT
END:VCALENDAR